BEGIN:VCALENDAR
VERSION:2.0
PRODID:icalendar-ruby
CALSCALE:GREGORIAN
METHOD:PUBLISH
BEGIN:VTIMEZONE
TZID:Europe/London
BEGIN:DAYLIGHT
DTSTART:20240331T020000
TZOFFSETFROM:+0000
TZOFFSETTO:+0100
RRULE:FREQ=YEARLY;BYDAY=-1SU;BYMONTH=3
TZNAME:BST
END:DAYLIGHT
BEGIN:STANDARD
DTSTART:20241027T010000
TZOFFSETFROM:+0100
TZOFFSETTO:+0000
RRULE:FREQ=YEARLY;BYDAY=-1SU;BYMONTH=10
TZNAME:GMT
END:STANDARD
END:VTIMEZONE
BEGIN:VEVENT
DTSTAMP:20260421T164218Z
UID:so-you-think-you-might-want-to-be-a-ceo-or-director-how-to-go-for-it-su
 rvive-and-thrive
DTSTART;TZID=Europe/London:20240815T140000
DTEND;TZID=Europe/London:20240815T145000
LOCATION:Studio 2\, The Union
SUMMARY: So you think you might want to be a CEO or Director? How to go for
  it\, survive and thrive!
END:VEVENT
END:VCALENDAR
